BEGIN:VCALENDAR
VERSION:2.0
PRODID:-//Tribalize - ECPv6.15.20//NONSGML v1.0//EN
CALSCALE:GREGORIAN
METHOD:PUBLISH
X-WR-CALNAME:Tribalize
X-ORIGINAL-URL:https://tribalize.com.br
X-WR-CALDESC:Eventos para Tribalize
REFRESH-INTERVAL;VALUE=DURATION:PT1H
X-Robots-Tag:noindex
X-PUBLISHED-TTL:PT1H
BEGIN:VTIMEZONE
TZID:America/Sao_Paulo
BEGIN:STANDARD
TZOFFSETFROM:-0300
TZOFFSETTO:-0300
TZNAME:-03
DTSTART:20240101T000000
END:STANDARD
END:VTIMEZONE
BEGIN:VEVENT
DTSTART;TZID=America/Sao_Paulo:20251101T190000
DTEND;TZID=America/Sao_Paulo:20251102T020000
DTSTAMP:20260423T154123
CREATED:20251030T174818Z
LAST-MODIFIED:20251030T175037Z
UID:2548-1762023600-1762048800@tribalize.com.br
SUMMARY:TRIBALIZE no Humbuk Ed. Helloween 01/11 Sábado as 19h
DESCRIPTION:Tribalize no Humbuck Park traz aos Sábados e em dias especiais o seu grande elenco para apresentações de sets incríveis que prometem embalar as noites. Humbuck Park fica no coração da Lagoa da Conceição\, em Florianópolis e oferece uma grande variedade de porções\, pizzas no forno a lenha e deliciosos burguers\, além dos Drinks e um chopp gelado. \nEntão vem que a diversão para a sua noite é garantida. Siga @tribalize.co para ficar por dentro dos melhores eventos da música eletrônica da cidade. \nIngressos antecipados via\nUTICKET\nou via pix celular 62 996633398 \n  \n\n 
URL:https://tribalize.com.br/event/tribalize-no-humbuk-ed-helloween-01-11-sabado-as-19h/
LOCATION:Humbuck Park\, R. Henrique Vera do Nascimento\, 153\, Florianópolis\, SC\, 88062-020\, Brazil
ATTACH;FMTTYPE=image/jpeg:https://tribalize.com.br/wp-content/uploads/2025/10/logo-tribalize-para-uticket-Ed.-Helloween-1400x700-1.jpg
END:VEVENT
BEGIN:VEVENT
DTSTART;TZID=America/Sao_Paulo:20251026T060000
DTEND;TZID=America/Sao_Paulo:20251026T210000
DTSTAMP:20260423T154123
CREATED:20251021T162204Z
LAST-MODIFIED:20251021T162204Z
UID:2517-1761458400-1761512400@tribalize.com.br
SUMMARY:AFTER TRIBALIZE NO MOÇAMBA 26/10 DAS 06 AS 21H
DESCRIPTION:Tribalize no Humbuck Park traz aos Sábados e em dias especiais o seu grande elenco para apresentações de sets incríveis que prometem embalar as noites. Humbuck Park fica no coração da Lagoa da Conceição\, em Florianópolis e oferece uma grande variedade de porções\, pizzas no forno a lenha e deliciosos burguers\, além dos Drinks e um chopp gelado. \nEntão vem que a diversão para a sua noite é garantida. Siga @tribalize.co para ficar por dentro dos melhores eventos da música eletrônica da cidade. \nIngressos antecipados via\nUTICKET\nou via pix celular 62 996633398 \n  \n\n 
URL:https://tribalize.com.br/event/after-tribalize-no-mocamba-26-10-das-06-as-21h/
LOCATION:Praia do Moçambique\, SC-406\, Florianópolis\, Santa Catarina\, 88058-000\, Brazil
ATTACH;FMTTYPE=image/jpeg:https://tribalize.com.br/wp-content/uploads/2025/10/banner-tribalize-humbuk.jpg
END:VEVENT
BEGIN:VEVENT
DTSTART;TZID=America/Sao_Paulo:20251025T200000
DTEND;TZID=America/Sao_Paulo:20251026T040000
DTSTAMP:20260423T154123
CREATED:20251021T161940Z
LAST-MODIFIED:20251022T153127Z
UID:2513-1761422400-1761451200@tribalize.com.br
SUMMARY:TRIBALIZE B-Day Beniteez no Humbuk 25/10 Sábado as 20h
DESCRIPTION:Tribalize no Humbuck Park traz aos Sábados e em dias especiais o seu grande elenco para apresentações de sets incríveis que prometem embalar as noites. Humbuck Park fica no coração da Lagoa da Conceição\, em Florianópolis e oferece uma grande variedade de porções\, pizzas no forno a lenha e deliciosos burguers\, além dos Drinks e um chopp gelado. \nEntão vem que a diversão para a sua noite é garantida. Siga @tribalize.co para ficar por dentro dos melhores eventos da música eletrônica da cidade. \nIngressos antecipados via\nUTICKET\nou via pix celular 62 996633398 \n  \n\n 
URL:https://tribalize.com.br/event/tribalize-b-day-beniteez-no-humbuk-25-10-sabado-as-20h/
LOCATION:Humbuck Park\, R. Henrique Vera do Nascimento\, 153\, Florianópolis\, SC\, 88062-020\, Brazil
ATTACH;FMTTYPE=image/jpeg:https://tribalize.com.br/wp-content/uploads/2025/10/banner-tribalize-humbuk25.jpg
END:VEVENT
BEGIN:VEVENT
DTSTART;TZID=America/Sao_Paulo:20251018T200000
DTEND;TZID=America/Sao_Paulo:20251019T033000
DTSTAMP:20260423T154123
CREATED:20251016T175443Z
LAST-MODIFIED:20251016T183351Z
UID:2484-1760817600-1760844600@tribalize.com.br
SUMMARY:TRIBALIZE no Humbuk 18/10 Sábado as 20h
DESCRIPTION:Tribalize no Humbuck Park traz aos Sábados e em dias especiais o seu grande elenco para apresentações de sets incríveis que prometem embalar as noites. Humbuck Park fica no coração da Lagoa da Conceição\, em Florianópolis e oferece uma grande variedade de porções\, pizzas no forno a lenha e deliciosos burguers\, além dos Drinks e um chopp gelado. \nEntão vem que a diversão para a sua noite é garantida. Siga @tribalize.co para ficar por dentro dos melhores eventos da música eletrônica da cidade. \nIngressos antecipados via\nUTICKET\nou via pix celular 62 996633398 \n  \n\n 
URL:https://tribalize.com.br/event/tribalize-no-humbuk-18-10-sabado-as-20h/
LOCATION:Humbuck Park\, R. Henrique Vera do Nascimento\, 153\, Florianópolis\, SC\, 88062-020\, Brazil
ATTACH;FMTTYPE=image/jpeg:https://tribalize.com.br/wp-content/uploads/2025/10/banner-tribalize-humbuk.jpg
END:VEVENT
BEGIN:VEVENT
DTSTART;TZID=America/Sao_Paulo:20250906T150000
DTEND;TZID=America/Sao_Paulo:20250907T080000
DTSTAMP:20260423T154123
CREATED:20250906T010946Z
LAST-MODIFIED:20250906T021232Z
UID:2372-1757170800-1757232000@tribalize.com.br
SUMMARY:TRIBALIZE É Rave Poha
DESCRIPTION:🌸🦉 Tribalize ediçao: É Rave Poha! 06 de Setembro de 2025 🦉🌸 \n. \nVem para experenciarmos uma vivência na essência da Tribalize\, com a Música de centro e rodeado de natureza\, a beira da praia do Moçambique trazendo o verdadeiro conceito de private\, como nos velhos tempos! \n. \nEntão se você quer entrar nessa viagem psicodélica que parte as 15 horas da tarde do sábado dia 06 de Setembro de 2005 ao som e na energia já lá em cima com artistas tocando o puro suco do Tech House e logo menos atingindo atmosferas do Trance ao adentrarmos a noite. Preparem-se que o elenco é digno de cena de filme e as previsões são das melhores. Amanheceremos na beira da praia curtindo e dançando o melhor da psicodelia do trance e as 09 horas da manha partiremos para a Techzada na Lagoa da Conceiçao\, no Humbuck Park onde ocorrerá o evento All DAY promovido pela Teczada que promete agitar o domingo de feriado na ilha da magia. \n. \nA contribuição é voluntária\, do que você sentir de ajudar esse movimento e esses artistas maravilhosos! \n. \nTRIBALIZE 🥳 \n📍 Florianópolis – Ilha da Magia \n📆 06 de Setembro de 2025
URL:https://tribalize.com.br/event/tribalize-e-rave-poha/
LOCATION:Praia do Moçambique\, SC-406\, Florianópolis\, Santa Catarina\, 88058-000\, Brazil
END:VEVENT
BEGIN:VEVENT
DTSTART;TZID=America/Sao_Paulo:20250830T200000
DTEND;TZID=America/Sao_Paulo:20250831T020000
DTSTAMP:20260423T154123
CREATED:20250829T022440Z
LAST-MODIFIED:20250829T022440Z
UID:2256-1756584000-1756605600@tribalize.com.br
SUMMARY:Tribalize Back to the Beat
DESCRIPTION:A Tribalize nasceu em 1998. Criada por Dj EdSamádhi\, como uma loja voltada para arte e cultura. Sempre conectada e atuante na divulgação da cena da música eletrônica\, principalmente em Brasília. Por muitos anos foi um ponto de encontro e referência para quem respirava música\, criatividade e liberdade. \nApós um período de pausa e muitas mudanças\, a Tribalize retorna com força total\, com novas parcerias e um novo formato. O portal tribalize.com.br. Um espaço digital dedicado a divulgar eventos\, artistas\, labels e lugares que fazem a cena eletrônica pulsar na ilha da magia\, Floripa. \nE para marcar esse novo ciclo\, acontece a festa de estreia e comemoração desse retorno. Tribalize – Back to the Beat \nNo sábado\, 30/08\, das 20h às 02h\, no Humbuck Park — um bar balada aconchegante no coração da Lagoa da Conceição\, conhecido pelos seus burguers\, pizzas\, porções\, chops e drinks\, perfeitos para embalar a melhor noite de Floripa regado de excelentes artistas compondo nosso line. \nMuita música eletrônica com:\nCauê\nJfUnder\nBeniteez\nWillian Costa\nVass\nEdSamádhi \nFlash Tattoo rolando no espaço\, muita vibe boa e música para dançar! \nTe esperamos na pista
URL:https://tribalize.com.br/event/tribalize-back-to-the-beat/
LOCATION:Humbuck Park\, R. Henrique Vera do Nascimento\, 153\, Florianópolis\, SC\, 88062-020\, Brazil
ATTACH;FMTTYPE=image/jpeg:https://tribalize.com.br/wp-content/uploads/2025/08/tribalize-back-to-the-beat.jpg
END:VEVENT
BEGIN:VEVENT
DTSTART;TZID=America/Sao_Paulo:20250628T200000
DTEND;TZID=America/Sao_Paulo:20250629T030000
DTSTAMP:20260423T154123
CREATED:20250626T185949Z
LAST-MODIFIED:20250627T162557Z
UID:1681-1751140800-1751166000@tribalize.com.br
SUMMARY:Techzada Road to Techno
DESCRIPTION:A TECHZADA está de volta 🚨🚨🚨\nDia 28/06 aterrissamos no @dalataconveniencia na Lagoa da Conceição.\nCom entrada free e muita música boa 🫡\nContará com os(as) Djs:\nAmalix\nBuds\nEd Samádhi\nElle\nKassan\nVass \nEsperamos vocês 🔥\n📅 28/06\n⏰️ Das 20:00 as 03:00\nAv. Das Rendeiras 1462
URL:https://tribalize.com.br/event/techzada-road-to-techno/
LOCATION:Dalata Conveniência\, Av. das Rendeiras\, 1462\, Florianópolis\, SC\, 88062-400\, Brazil
ATTACH;FMTTYPE=image/jpeg:https://tribalize.com.br/wp-content/uploads/2025/06/techzada-road-to-techno-dalata-1.jpg
END:VEVENT
BEGIN:VEVENT
DTSTART;TZID=America/Sao_Paulo:20250615T090000
DTEND;TZID=America/Sao_Paulo:20250615T220000
DTSTAMP:20260423T154123
CREATED:20250530T190502Z
LAST-MODIFIED:20250603T043225Z
UID:1436-1749978000-1750024800@tribalize.com.br
SUMMARY:Harmonic Bday do Sonorus
DESCRIPTION:HARMONIC EDIÇÃO B-DAY DO SONORUS 📆🦉\n.\n15 de Junho de 2025 Florianópolis viverá uma das experiências mais lindas com a cena eletrônica da região\, queremos te convidar a comemorar junto conosco mais uma edição do aniversário de um de nossos CEO da Harmonic e nosso Dj residente Sonorus! 😍🥳\n.\nIremos mostrar e viver juntos a essência da Cena eletrônica\, unindo djs de 4 países diferentes\, Brasil\, Israel\, Argentina e Uruguai. Uma experiência única de uma nova era\, diferente de tudo o que você já viveu\, em um evento que será pensado em cada mínimo detalhe com muito amor e carinho! 💚\n.\n🇮🇱 Atrações Internacionais 🇦🇷🇺🇾\n🇧🇷 Atrações Nacionais\n🎧 Melhores Djs do Sul do Brasil\n⛳️ Evento Open Air\n🌈 Decoração Psicodélica + Tenda\n🔊 SoundSystem de Alta Qualidade\n🎥 Cobertura Fotográfica & Audiovisual\n.\n🥳 Harmonic Edição B-day do Sonorus\n📍 Florianópolis – Ilha da Magia\n📆 15 de Junho de 2025\n⏰ Das 09H ás 22H\n.\nEstão prontos para uma nova era?\n.\n#PAZ #AMOR #UNIÃO #RESPEITO
URL:https://tribalize.com.br/event/harmonic/
LOCATION:Sítio 3 Meninas\, Estr. João Januário da Silva\, 7475 Ratones\, Florianópolis\, SC\, 88052-200\, Brazil
CATEGORIES:Open Air
ATTACH;FMTTYPE=image/png:https://tribalize.com.br/wp-content/uploads/2025/05/harmonic.png
END:VEVENT
BEGIN:VEVENT
DTSTART;TZID=America/Sao_Paulo:20250608T080000
DTEND;TZID=America/Sao_Paulo:20250608T220000
DTSTAMP:20260423T154123
CREATED:20250603T032241Z
LAST-MODIFIED:20250603T042736Z
UID:1457-1749369600-1749420000@tribalize.com.br
SUMMARY:Forest Shankara Festival
DESCRIPTION:Buscando as raízes da cultura psicodélica\, nossa equipe vem totalmente focada em realizar uma celebração única e elegante\, fazendo com que todos os presentes sintam a sinergia emanada em cada detalhe proposto pelas crew’s. Uma onda de novidades está por vir\, preparados para vivenciar uma experiência inesquecível na ILHA DA MAGIA?!?
URL:https://tribalize.com.br/event/forest-shankara-festival/
LOCATION:Campo de Rugby Joaca Rugby Clube – Toca da Coruja\, Rod. Aparício Ramos Cordeiro\, 2719 - Morro do Peralta\, Florianópolis\, SC\, 88065-500\, Brazil
CATEGORIES:Open Air
ATTACH;FMTTYPE=image/png:https://tribalize.com.br/wp-content/uploads/2025/06/forest.png
END:VEVENT
BEGIN:VEVENT
DTSTART;TZID=America/Sao_Paulo:20250607T080000
DTEND;TZID=America/Sao_Paulo:20250607T170000
DTSTAMP:20260423T154123
CREATED:20250607T191204Z
LAST-MODIFIED:20250607T191204Z
UID:1605-1749283200-1749315600@tribalize.com.br
SUMMARY:Terraza KickClap
DESCRIPTION:
URL:https://tribalize.com.br/event/terraza-kickclap/
LOCATION:SC
ATTACH;FMTTYPE=image/jpeg:https://tribalize.com.br/wp-content/uploads/2025/06/terraza-klickclap-01.jpg
END:VEVENT
END:VCALENDAR